BEGIN:VCALENDAR
VERSION:2.0
PRODID:-//Boxford Community Council - ECPv4.6.14.1//NONSGML v1.0//EN
CALSCALE:GREGORIAN
METHOD:PUBLISH
X-WR-CALNAME:Boxford Community Council
X-ORIGINAL-URL:https://boxford.me.uk
X-WR-CALDESC:Events for Boxford Community Council
BEGIN:VEVENT
DTSTART;TZID=Europe/London:20191103T183000
DTEND;TZID=Europe/London:20191103T193000
DTSTAMP:20260421T113508
CREATED:20191029T132438Z
LAST-MODIFIED:20191029T132548Z
UID:943-1572805800-1572809400@boxford.me.uk
SUMMARY:All Souls Solemn Service of Memoriam
DESCRIPTION:The Commemoration of the Faithful Departed. \nAn opportunity for the whole benefice to remember friends and family who have died. \nSimply place any names you wish to be remembered on the list at the back of church at least 20 minutes before the start of the service. \n
URL:https://boxford.me.uk/event/all-souls-solemn-service-of-memoriam/
LOCATION:St Mary's Church\, Boxford\, co10 5DU
CATEGORIES:Boxford
END:VEVENT
END:VCALENDAR