BEGIN:VCALENDAR
VERSION:2.0
PRODID:-//Boxford Community Council - ECPv4.6.14.1//NONSGML v1.0//EN
CALSCALE:GREGORIAN
METHOD:PUBLISH
X-WR-CALNAME:Boxford Community Council
X-ORIGINAL-URL:https://boxford.me.uk
X-WR-CALDESC:Events for Boxford Community Council
BEGIN:VEVENT
DTSTART;TZID=Europe/London:20220802T193000
DTEND;TZID=Europe/London:20220802T213000
DTSTAMP:20260420T100624
CREATED:20220224T112407Z
LAST-MODIFIED:20220224T112407Z
UID:1834-1659468600-1659475800@boxford.me.uk
SUMMARY:BGS: Cohabit\, Control or Conserve?
DESCRIPTION:IAN BEDFORD\nCohabit\, Control or Conserve? \n
URL:https://boxford.me.uk/event/bgs-cohabit-control-or-conserve/
LOCATION:Stone Street Road\, Boxford\, CO10 5NP
CATEGORIES:Boxford
ATTACH;FMTTYPE=image/jpeg:https://boxford.me.uk/wp-content/uploads/2022/02/BGS-AUG22.jpg
ORGANIZER;CN="Boxford%20Gardening%20Society":MAILTO:elizabeth.wagener@btinternet.com
END:VEVENT
END:VCALENDAR