BEGIN:VCALENDAR
VERSION:2.0
PRODID:-//Boxford Community Council - ECPv4.6.14.1//NONSGML v1.0//EN
CALSCALE:GREGORIAN
METHOD:PUBLISH
X-WR-CALNAME:Boxford Community Council
X-ORIGINAL-URL:https://boxford.me.uk
X-WR-CALDESC:Events for Boxford Community Council
BEGIN:VEVENT
DTSTART;TZID=Europe/London:20221029T183000
DTEND;TZID=Europe/London:20221029T203000
DTSTAMP:20260421T111916
CREATED:20221022T172754Z
LAST-MODIFIED:20221022T172754Z
UID:1925-1667068200-1667075400@boxford.me.uk
SUMMARY:Boxford Fireworks
DESCRIPTION:LANTERN PARADE\n6:30pm from the village \nFIREWORKS\n7:45pm on the Playing Fields \nTickets in advance: Adults £6\, Children £4\nTickets on the gate: Adults £7\, Children £5 \nBoxford Community Council in association with Boxford Parish Council \n
URL:https://boxford.me.uk/event/boxford-fireworks-2/
LOCATION:The Playing Fields\, Boxford\, co10 5PB\, United Kingdom
CATEGORIES:Boxford
ATTACH;FMTTYPE=image/jpeg:https://boxford.me.uk/wp-content/uploads/2022/10/fireworks2022.jpg
ORGANIZER;CN="Boxford%20Community%20Council":MAILTO:boxfordcommunitycouncil@gmail.com
END:VEVENT
END:VCALENDAR