BEGIN:VCALENDAR
VERSION:2.0
PRODID:-//Boxford Community Council - ECPv4.6.14.1//NONSGML v1.0//EN
CALSCALE:GREGORIAN
METHOD:PUBLISH
X-WR-CALNAME:Boxford Community Council
X-ORIGINAL-URL:https://boxford.me.uk
X-WR-CALDESC:Events for Boxford Community Council
BEGIN:VEVENT
DTSTART;TZID=Europe/London:20191026T183000
DTEND;TZID=Europe/London:20191026T220000
DTSTAMP:20260421T083923
CREATED:20190518T162426Z
LAST-MODIFIED:20190518T162426Z
UID:745-1572114600-1572127200@boxford.me.uk
SUMMARY:BOXFORD FIREWORKS 2019
DESCRIPTION:
URL:https://boxford.me.uk/event/boxford-fireworks-2019/
LOCATION:The Playing Fields\, Boxford\, co10 5PB\, United Kingdom
CATEGORIES:Boxford,Community Events,Pavilion & Playing Fields,Pavilion and The Playing Fields,Playing Fields
ORGANIZER;CN="Boxford%20Community%20Council":MAILTO:boxfordcommunitycouncil@gmail.com
END:VEVENT
END:VCALENDAR