BEGIN:VCALENDAR
VERSION:2.0
PRODID:-//Boxford Community Council - ECPv4.6.14.1//NONSGML v1.0//EN
CALSCALE:GREGORIAN
METHOD:PUBLISH
X-WR-CALNAME:Boxford Community Council
X-ORIGINAL-URL:https://boxford.me.uk
X-WR-CALDESC:Events for Boxford Community Council
BEGIN:VEVENT
DTSTART;TZID=Europe/London:20211030T183000
DTEND;TZID=Europe/London:20211030T213000
DTSTAMP:20260421T110934
CREATED:20210902T124456Z
LAST-MODIFIED:20210927T104622Z
UID:1753-1635618600-1635629400@boxford.me.uk
SUMMARY:Boxford Fireworks Display & Lantern Parade 2021
DESCRIPTION:This year’s fireworks display is on Saturday October 30th.\nThe Lantern Parade starts at 6:30pm from the centre of the village.\nThe fireworks display starts at 7:45pm on the Playing Fields. \nLantern display\, BBQ\, Licensed bar\, Candy floss and Children’s rides. \nAdvance Tickets:\nAdults £5\nChildren £3 \nGate Prices:\nAdults £6\nChildren £4 \nChildren under 3 go free! \nLantern making will be taking place throughout half-term in the scout hut (The Spinney). From Saturday 23rd October to Thursday 28th October. 10am to 4pm each day.\nPlease come along to this fun workshop organised by Mark Miller and Karen Baker. Please book your session by contacting Mark Miller 01787 211596 or email BoxfordCommunityCouncil@gmail.com \nAll the money raised from the Fireworks is pumped back in to the community by the Community Council. \nWe are always looking for helpers for the various events we put on\, so if you are interested in being involved\, please contact us. \n \n
URL:https://boxford.me.uk/event/boxford-fireworks-display-lantern-parade-2021/
LOCATION:The Playing Fields\, Boxford\, co10 5PB\, United Kingdom
CATEGORIES:Boxford
ATTACH;FMTTYPE=image/png:https://boxford.me.uk/wp-content/uploads/2021/09/Boxford_Fireworks_Edited_25092021.png
ORGANIZER;CN="Boxford%20Community%20Council":MAILTO:boxfordcommunitycouncil@gmail.com
END:VEVENT
END:VCALENDAR