BEGIN:VCALENDAR
VERSION:2.0
PRODID:-//Boxford Community Council - ECPv4.6.14.1//NONSGML v1.0//EN
CALSCALE:GREGORIAN
METHOD:PUBLISH
X-WR-CALNAME:Boxford Community Council
X-ORIGINAL-URL:https://boxford.me.uk
X-WR-CALDESC:Events for Boxford Community Council
BEGIN:VEVENT
DTSTART;TZID=Europe/London:20191005T193000
DTEND;TZID=Europe/London:20191005T210000
DTSTAMP:20260424T083741
CREATED:20190906T155812Z
LAST-MODIFIED:20190906T155812Z
UID:895-1570303800-1570309200@boxford.me.uk
SUMMARY:Boxford Society AGM & Talk
DESCRIPTION:Illustrated Talk “A Brief History of the Suffolk Landscape” followed by short AGM\, at Boxford Village Hall\, Saturday 5th October 2019 at 7.30 pm. Mark Mitchels is a very popular speaker. \nSadly he is retiring in September but he has agreed to give us one last illustrated talk before our AGM\, This will be very interesting and entertaining as always\, and you will not want to miss it. It would be helpful to have a large turnout for the 2019 AGM which is members’ first opportunity to meet the new officers and members of the Executive Committee and to vote to confirm them formally into their posts in accordance with the Constitution. \nVisitors are welcome to the talk (£2 entrance fee)\, but should not stay for the AGM\, which will be short as usual. \n
URL:https://boxford.me.uk/event/boxford-society-agm-talk/
LOCATION:Stone Street Road\, Boxford\, CO10 5NP
CATEGORIES:Boxford
END:VEVENT
END:VCALENDAR