BEGIN:VCALENDAR
VERSION:2.0
PRODID:-//Boxford Community Council - ECPv4.6.14.1//NONSGML v1.0//EN
CALSCALE:GREGORIAN
METHOD:PUBLISH
X-WR-CALNAME:Boxford Community Council
X-ORIGINAL-URL:https://boxford.me.uk
X-WR-CALDESC:Events for Boxford Community Council
BEGIN:VEVENT
DTSTART;VALUE=DATE:20200426
DTEND;VALUE=DATE:20200427
DTSTAMP:20260420T114545
CREATED:20190518T162953Z
LAST-MODIFIED:20190522T103636Z
UID:749-1587859200-1587945599@boxford.me.uk
SUMMARY:Boxford Tornado
DESCRIPTION:
URL:https://boxford.me.uk/event/boxford-tornado/
LOCATION:The Playing Fields\, Boxford\, co10 5PB\, United Kingdom
CATEGORIES:Boxford,Community Events,Pavilion & Playing Fields,Pavilion and The Playing Fields,Playing Fields
END:VEVENT
END:VCALENDAR