BEGIN:VCALENDAR
VERSION:2.0
PRODID:-//Boxford Community Council - ECPv4.6.14.1//NONSGML v1.0//EN
CALSCALE:GREGORIAN
METHOD:PUBLISH
X-WR-CALNAME:Boxford Community Council
X-ORIGINAL-URL:https://boxford.me.uk
X-WR-CALDESC:Events for Boxford Community Council
BEGIN:VEVENT
DTSTART;TZID=Europe/London:20190718T200000
DTEND;TZID=Europe/London:20190718T220000
DTSTAMP:20260421T101240
CREATED:20190518T145633Z
LAST-MODIFIED:20190625T112258Z
UID:718-1563480000-1563487200@boxford.me.uk
SUMMARY:Boxford WI - Bees & Honey
DESCRIPTION:
URL:https://boxford.me.uk/event/boxford-wi-3/
LOCATION:Boxford Playing Fields\, Homefield\, CO10 5PB
CATEGORIES:Boxford,Community Events,Pavilion & Playing Fields,Pavilion and The Playing Fields
END:VEVENT
END:VCALENDAR