BEGIN:VCALENDAR
VERSION:2.0
PRODID:-//Boxford Community Council - ECPv4.6.14.1//NONSGML v1.0//EN
CALSCALE:GREGORIAN
METHOD:PUBLISH
X-WR-CALNAME:Boxford Community Council
X-ORIGINAL-URL:https://boxford.me.uk
X-WR-CALDESC:Events for Boxford Community Council
BEGIN:VEVENT
DTSTART;TZID=Europe/London:20191017T200000
DTEND;TZID=Europe/London:20191017T220000
DTSTAMP:20260421T100114
CREATED:20190518T161320Z
LAST-MODIFIED:20190518T161320Z
UID:740-1571342400-1571349600@boxford.me.uk
SUMMARY:Boxford WI
DESCRIPTION:
URL:https://boxford.me.uk/event/boxford-wi-5/
LOCATION:Boxford Playing Fields\, Homefield\, CO10 5PB
CATEGORIES:Boxford,Community Events,Pavilion & Playing Fields,Pavilion and The Playing Fields
END:VEVENT
END:VCALENDAR