BEGIN:VCALENDAR
VERSION:2.0
PRODID:-//Boxford Community Council - ECPv4.6.14.1//NONSGML v1.0//EN
CALSCALE:GREGORIAN
METHOD:PUBLISH
X-WR-CALNAME:Boxford Community Council
X-ORIGINAL-URL:https://boxford.me.uk
X-WR-CALDESC:Events for Boxford Community Council
BEGIN:VEVENT
DTSTART;TZID=Europe/London:20180621T200000
DTEND;TZID=Europe/London:20180621T220000
DTSTAMP:20260421T100300
CREATED:20180503T114318Z
LAST-MODIFIED:20180508T122458Z
UID:234-1529611200-1529618400@boxford.me.uk
SUMMARY:Boxford WI - Garden Games
DESCRIPTION:On Thursday 21st June\, the Evening meeting will host a variety of garden games (weather permitting). Come along for a game of croquet\, boule and other fun activities. \n
URL:https://boxford.me.uk/event/boxford-wi-garden-games/
LOCATION:Boxford Playing Fields\, Homefield\, CO10 5PB
CATEGORIES:Boxford
ATTACH;FMTTYPE=image/jpeg:https://boxford.me.uk/wp-content/uploads/2018/05/Untitled-7.jpg
END:VEVENT
END:VCALENDAR