BEGIN:VCALENDAR
VERSION:2.0
PRODID:-//Boxford Community Council - ECPv4.6.14.1//NONSGML v1.0//EN
CALSCALE:GREGORIAN
METHOD:PUBLISH
X-WR-CALNAME:Boxford Community Council
X-ORIGINAL-URL:https://boxford.me.uk
X-WR-CALDESC:Events for Boxford Community Council
BEGIN:VEVENT
DTSTART;TZID=Europe/London:20180606T140000
DTEND;TZID=Europe/London:20180606T160000
DTSTAMP:20260421T111645
CREATED:20180503T114132Z
LAST-MODIFIED:20180503T114132Z
UID:232-1528293600-1528300800@boxford.me.uk
SUMMARY:Boxford WI - Pretty Corsets
DESCRIPTION:A talk from Roger Kennel \n
URL:https://boxford.me.uk/event/boxford-wi-pretty-corsets/
LOCATION:Stone Street Road\, Boxford\, CO10 5NP
CATEGORIES:Boxford
END:VEVENT
END:VCALENDAR