BEGIN:VCALENDAR
VERSION:2.0
PRODID:-//Boxford Community Council - ECPv4.6.14.1//NONSGML v1.0//EN
CALSCALE:GREGORIAN
METHOD:PUBLISH
X-WR-CALNAME:Boxford Community Council
X-ORIGINAL-URL:https://boxford.me.uk
X-WR-CALDESC:Events for Boxford Community Council
BEGIN:VEVENT
DTSTART;TZID=Europe/London:20200204T163000
DTEND;TZID=Europe/London:20200204T183000
DTSTAMP:20260422T103634
CREATED:20191214T094255Z
LAST-MODIFIED:20191214T094514Z
UID:1015-1580833800-1580841000@boxford.me.uk
SUMMARY:BSCLG: War Wounds
DESCRIPTION:Boxford Study Centre Literature Group \nAn 8 week course on Monday afternoons. \nPoetry\, prose and memoirs concerning war and its aftermath. \nCourse fee £30 for the complete course\, payable on the first or second meeting.\n£5 for each single class.\nNewcomers very welcome. \n
URL:https://boxford.me.uk/event/bsclg-war-wounds-3-2/
LOCATION:Broad Street\, Groton\, CO10 5EL
CATEGORIES:Community Events,Groton
END:VEVENT
END:VCALENDAR