BEGIN:VCALENDAR
VERSION:2.0
PRODID:-//Boxford Community Council - ECPv4.6.14.1//NONSGML v1.0//EN
CALSCALE:GREGORIAN
METHOD:PUBLISH
X-WR-CALNAME:Boxford Community Council
X-ORIGINAL-URL:https://boxford.me.uk
X-WR-CALDESC:Events for Boxford Community Council
BEGIN:VEVENT
DTSTART;TZID=Europe/London:20210822T110000
DTEND;TZID=Europe/London:20210822T160000
DTSTAMP:20260421T142544
CREATED:20210522T150828Z
LAST-MODIFIED:20210522T150939Z
UID:1680-1629630000-1629648000@boxford.me.uk
SUMMARY:Calvacade on the Croft
DESCRIPTION:CLASSIC VEHICLE SHOW\nin Association with the Suffolk Vehicle Enthusiasts Club \n\n\n\nFREE Entry (Donations gratefully accepted)\nA belated celebration to mark 25 years of ownership of The Groton Croft.\nA Classic Vehicle Show\,with all donations given to support the upkeep and maintenance of this historic green space. The day will showcase vehicles both old and new from Mercedes and Minis to Lamborghinis and even lorries. \nAll are welcome so meet your friends as we will have music and refreshments\, so please bring a picnic and enjoy the day. \nIf you own a classic car\, no matter what the vintage and would be happy to show it to visitors please contact Bob Bowdidge on 01787 211553 or Gerald Becker on 01787 211219 Email: gerald.becker@fastnet.co.uk \n\n\n\n
URL:https://boxford.me.uk/event/calvacade-on-the-croft/
LOCATION:Groton Croft\, Groton\, TN31 6RG
CATEGORIES:Groton
END:VEVENT
END:VCALENDAR