BEGIN:VCALENDAR
VERSION:2.0
PRODID:-//Boxford Community Council - ECPv4.6.14.1//NONSGML v1.0//EN
CALSCALE:GREGORIAN
METHOD:PUBLISH
X-WR-CALNAME:Boxford Community Council
X-ORIGINAL-URL:https://boxford.me.uk
X-WR-CALDESC:Events for Boxford Community Council
BEGIN:VEVENT
DTSTART;VALUE=DATE:20200417
DTEND;VALUE=DATE:20200418
DTSTAMP:20260422T120258
CREATED:20200322T084827Z
LAST-MODIFIED:20200322T100822Z
UID:1185-1587081600-1587167999@boxford.me.uk
SUMMARY:CANCELLED - The Boxford Society talk and AGM
DESCRIPTION:
URL:https://boxford.me.uk/event/cancelled-the-boxford-society-talk-and-agm/
END:VEVENT
END:VCALENDAR