BEGIN:VCALENDAR
VERSION:2.0
PRODID:-//Boxford Community Council - ECPv4.6.14.1//NONSGML v1.0//EN
CALSCALE:GREGORIAN
METHOD:PUBLISH
X-WR-CALNAME:Boxford Community Council
X-ORIGINAL-URL:https://boxford.me.uk
X-WR-CALDESC:Events for Boxford Community Council
BEGIN:VEVENT
DTSTART;TZID=Europe/London:20191123T120000
DTEND;TZID=Europe/London:20191123T160000
DTSTAMP:20260421T113122
CREATED:20190930T111127Z
LAST-MODIFIED:20191029T141622Z
UID:946-1574510400-1574524800@boxford.me.uk
SUMMARY:The Grand Boxford Festive Fair
DESCRIPTION:Boxford’s traditional Christmas fair \nBoxford Village Hall and Boxford Primary School \nFestive Stalls\, Father Christmas\, Crafts\, Raffle. \nGifts\, jewellery\, pottery\, food\, mulled wine\, hamper raffle\, jolly jars. \nFree Entry to All! \n  \n
URL:https://boxford.me.uk/event/christmas-fair-2/
LOCATION:Stone Street Road\, Boxford\, CO10 5NP
CATEGORIES:Boxford
ATTACH;FMTTYPE=image/jpeg:https://boxford.me.uk/wp-content/uploads/2019/09/xmasFairVH.jpg
END:VEVENT
END:VCALENDAR