BEGIN:VCALENDAR
VERSION:2.0
PRODID:-//Boxford Community Council - ECPv4.6.14.1//NONSGML v1.0//EN
CALSCALE:GREGORIAN
METHOD:PUBLISH
X-WR-CALNAME:Boxford Community Council
X-ORIGINAL-URL:https://boxford.me.uk
X-WR-CALDESC:Events for Boxford Community Council
BEGIN:VEVENT
DTSTART;TZID=Europe/London:20221118T193000
DTEND;TZID=Europe/London:20221118T203000
DTSTAMP:20260421T100149
CREATED:20221022T175704Z
LAST-MODIFIED:20221022T175704Z
UID:1933-1668799800-1668803400@boxford.me.uk
SUMMARY:Deep Relaxation & Sound Bath
DESCRIPTION:With Louise Carpenter\nBoxford Village Hall \nA chance to enter a deeply relaxed state and receive a wash of healing\, uplifting sound from unique hand-crafted high vibration instruments. Leave feeling refreshed\, calm\, de-stressed and spacious – a perfect start to the weekend. \nI am offering this first one by donation (suggested £10-£20) \n
URL:https://boxford.me.uk/event/deep-relaxation-sound-bath/
LOCATION:Stone Street Road\, Boxford\, CO10 5NP
CATEGORIES:Boxford
ATTACH;FMTTYPE=image/jpeg:https://boxford.me.uk/wp-content/uploads/2022/10/LouiseCarpenter.jpg
ORGANIZER;CN="Louise%20Carpenter":MAILTO:yogareikilouise@hotmail.co.uk
END:VEVENT
END:VCALENDAR