BEGIN:VCALENDAR
VERSION:2.0
PRODID:-//Boxford Community Council - ECPv4.6.14.1//NONSGML v1.0//EN
CALSCALE:GREGORIAN
METHOD:PUBLISH
X-WR-CALNAME:Boxford Community Council
X-ORIGINAL-URL:https://boxford.me.uk
X-WR-CALDESC:Events for Boxford Community Council
BEGIN:VEVENT
DTSTART;TZID=Europe/London:20191004T103000
DTEND;TZID=Europe/London:20191004T120000
DTSTAMP:20260420T114719
CREATED:20190930T112335Z
LAST-MODIFIED:20190930T112335Z
UID:934-1570185000-1570190400@boxford.me.uk
SUMMARY:Drop In For Coffee
DESCRIPTION:You are invited to “Drop in for Coffee” \nJoin us for a coffee a little music and friendly conversation. \nChildren’s area \nALL WELCOME! \nVoluntary £1 donation to church funds. \n
URL:https://boxford.me.uk/event/drop-in-for-coffee-2/
LOCATION:Church Road\, Little Waldingfield\, CO10 0SP
CATEGORIES:Little Waldingfield
END:VEVENT
END:VCALENDAR