BEGIN:VCALENDAR
VERSION:2.0
PRODID:-//Boxford Community Council - ECPv4.6.14.1//NONSGML v1.0//EN
CALSCALE:GREGORIAN
METHOD:PUBLISH
X-WR-CALNAME:Boxford Community Council
X-ORIGINAL-URL:https://boxford.me.uk
X-WR-CALDESC:Events for Boxford Community Council
BEGIN:VEVENT
DTSTART;TZID=Europe/London:20191101T103000
DTEND;TZID=Europe/London:20191101T120000
DTSTAMP:20260421T100155
CREATED:20191029T133553Z
LAST-MODIFIED:20191029T133553Z
UID:952-1572604200-1572609600@boxford.me.uk
SUMMARY:Drop In For Coffee
DESCRIPTION:Join us for a coffee\, a little music and friendly conversation. \nChildren’s area. \nAll welcome. \nVoluntary £1 donation to church funds. \n
URL:https://boxford.me.uk/event/drop-in-for-coffee-3/
LOCATION:Church Road\, Little Waldingfield\, CO10 0SP
CATEGORIES:Little Waldingfield
END:VEVENT
END:VCALENDAR