BEGIN:VCALENDAR
VERSION:2.0
PRODID:-//Boxford Community Council - ECPv4.6.14.1//NONSGML v1.0//EN
CALSCALE:GREGORIAN
METHOD:PUBLISH
X-WR-CALNAME:Boxford Community Council
X-ORIGINAL-URL:https://boxford.me.uk
X-WR-CALDESC:Events for Boxford Community Council
BEGIN:VEVENT
DTSTART;TZID=Europe/London:20190720T090000
DTEND;TZID=Europe/London:20190720T113000
DTSTAMP:20260421T125752
CREATED:20190518T160526Z
LAST-MODIFIED:20190518T160526Z
UID:724-1563613200-1563622200@boxford.me.uk
SUMMARY:ECC Junior Training
DESCRIPTION:
URL:https://boxford.me.uk/event/ecc-junior-training-12/
LOCATION:The Playing Fields\, Boxford\, co10 5PB\, United Kingdom
CATEGORIES:Pavilion & Playing Fields,Pavilion and The Playing Fields,Playing Fields
END:VEVENT
END:VCALENDAR