BEGIN:VCALENDAR
VERSION:2.0
PRODID:-//Boxford Community Council - ECPv4.6.14.1//NONSGML v1.0//EN
CALSCALE:GREGORIAN
METHOD:PUBLISH
X-WR-CALNAME:Boxford Community Council
X-ORIGINAL-URL:https://boxford.me.uk
X-WR-CALDESC:Events for Boxford Community Council
BEGIN:VEVENT
DTSTART;TZID=Europe/London:20190504T090000
DTEND;TZID=Europe/London:20190504T233000
DTSTAMP:20260421T112936
CREATED:20190504T125219Z
LAST-MODIFIED:20190505T130027Z
UID:667-1556960400-1557012600@boxford.me.uk
SUMMARY:ECC Junior training
DESCRIPTION:
URL:https://boxford.me.uk/event/ecc-junior-training/
LOCATION:The Playing Fields\, Boxford\, co10 5PB\, United Kingdom
CATEGORIES:Pavilion & Playing Fields,Pavilion and The Playing Fields,Playing Fields
END:VEVENT
END:VCALENDAR