BEGIN:VCALENDAR
VERSION:2.0
PRODID:-//Boxford Community Council - ECPv4.6.14.1//NONSGML v1.0//EN
CALSCALE:GREGORIAN
METHOD:PUBLISH
X-WR-CALNAME:Boxford Community Council
X-ORIGINAL-URL:https://boxford.me.uk
X-WR-CALDESC:Events for Boxford Community Council
BEGIN:VEVENT
DTSTART;TZID=Europe/London:20220423T093000
DTEND;TZID=Europe/London:20220423T110000
DTSTAMP:20260420T115245
CREATED:20220224T113939Z
LAST-MODIFIED:20220224T114054Z
UID:1849-1650706200-1650711600@boxford.me.uk
SUMMARY:Edwardstone Cricket Club Junior Cricket Training Sessions
DESCRIPTION:For ages 6-13years\, Saturday mornings in Boxford 9.30-11am \nCoaching starts Saturday April 23rd \nWe welcome beginners – boys and girls as well as those who have played the game before and we provide ECB level training to suit the differing levels of skill of our players \nFor more information go to www.edwardstonecricketclub.com \nContact Tim Bevan for further information 01787 211841 \n
URL:https://boxford.me.uk/event/edwardstone-cricket-club-junior-cricket-training-sessions/
LOCATION:The Playing Fields\, Boxford\, co10 5PB\, United Kingdom
CATEGORIES:Boxford,Edwardstone
ATTACH;FMTTYPE=image/jpeg:https://boxford.me.uk/wp-content/uploads/2022/02/edwarCC.jpg
END:VEVENT
END:VCALENDAR