BEGIN:VCALENDAR
VERSION:2.0
PRODID:-//Boxford Community Council - ECPv4.6.14.1//NONSGML v1.0//EN
CALSCALE:GREGORIAN
METHOD:PUBLISH
X-WR-CALNAME:Boxford Community Council
X-ORIGINAL-URL:https://boxford.me.uk
X-WR-CALDESC:Events for Boxford Community Council
BEGIN:VEVENT
DTSTART;TZID=Europe/London:20190825T183000
DTEND;TZID=Europe/London:20190825T203000
DTSTAMP:20260422T022119
CREATED:20190625T112657Z
LAST-MODIFIED:20190625T112806Z
UID:827-1566757800-1566765000@boxford.me.uk
SUMMARY:Ensemble DeNOTE: The Classical Clarinet - Mozart\, Danzi and Beethoven
DESCRIPTION:Jane Booth clarinet\nJohn Irving fortepiano \nTickets £18 (reserved)\, £12 (unreserved)\, half-price for full-time students. \n
URL:https://boxford.me.uk/event/ensemble-denote-the-classical-clarinet-mozart-danzi-and-beethoven/
LOCATION:St Mary's Church\, Boxford\, co10 5DU
CATEGORIES:Boxford
ATTACH;FMTTYPE=image/jpeg:https://boxford.me.uk/wp-content/uploads/2019/06/kf3z8NSt.jpeg
ORGANIZER;CN="Suffolk%20Villages%20Festival":MAILTO:box@suffolkvillagesfestival.com
END:VEVENT
END:VCALENDAR