BEGIN:VCALENDAR
VERSION:2.0
PRODID:-//Boxford Community Council - ECPv4.6.14.1//NONSGML v1.0//EN
CALSCALE:GREGORIAN
METHOD:PUBLISH
X-WR-CALNAME:Boxford Community Council
X-ORIGINAL-URL:https://boxford.me.uk
X-WR-CALDESC:Events for Boxford Community Council
BEGIN:VEVENT
DTSTART;TZID=Europe/London:20211025T100000
DTEND;TZID=Europe/London:20211029T170000
DTSTAMP:20260421T100029
CREATED:20210902T124240Z
LAST-MODIFIED:20210927T102119Z
UID:1751-1635156000-1635526800@boxford.me.uk
SUMMARY:Fireworks Lantern Making
DESCRIPTION:
URL:https://boxford.me.uk/event/fireworks-lantern-making-2/
LOCATION:CO10 5HL\, United Kingdom
CATEGORIES:Boxford
ATTACH;FMTTYPE=image/jpeg:https://boxford.me.uk/wp-content/uploads/2021/09/Lanterns2021.jpg
ORGANIZER;CN="Boxford%20Community%20Council":MAILTO:boxfordcommunitycouncil@gmail.com
END:VEVENT
END:VCALENDAR