BEGIN:VCALENDAR
VERSION:2.0
PRODID:-//Boxford Community Council - ECPv4.6.14.1//NONSGML v1.0//EN
CALSCALE:GREGORIAN
METHOD:PUBLISH
X-WR-CALNAME:Boxford Community Council
X-ORIGINAL-URL:https://boxford.me.uk
X-WR-CALDESC:Events for Boxford Community Council
BEGIN:VEVENT
DTSTART;TZID=Europe/London:20191019T100000
DTEND;TZID=Europe/London:20191025T170000
DTSTAMP:20260421T083832
CREATED:20190518T162029Z
LAST-MODIFIED:20190518T162139Z
UID:742-1571479200-1572022800@boxford.me.uk
SUMMARY:Fireworks Lantern Making
DESCRIPTION:
URL:https://boxford.me.uk/event/fireworks-lantern-making/
LOCATION:CO10 5HL\, United Kingdom
CATEGORIES:Boxford,Community Events,Edwardstone,Groton
ORGANIZER;CN="Boxford%20Community%20Council":MAILTO:boxfordcommunitycouncil@gmail.com
END:VEVENT
END:VCALENDAR