BEGIN:VCALENDAR
VERSION:2.0
PRODID:-//Boxford Community Council - ECPv4.6.14.1//NONSGML v1.0//EN
CALSCALE:GREGORIAN
METHOD:PUBLISH
X-WR-CALNAME:Boxford Community Council
X-ORIGINAL-URL:https://boxford.me.uk
X-WR-CALDESC:Events for Boxford Community Council
BEGIN:VEVENT
DTSTART;TZID=Europe/London:20210613T100000
DTEND;TZID=Europe/London:20210613T150000
DTSTAMP:20260421T084216
CREATED:20210522T160235Z
LAST-MODIFIED:20210522T160235Z
UID:1702-1623578400-1623596400@boxford.me.uk
SUMMARY:FOBS Boxford Sale Trail
DESCRIPTION:Have you had a clear out and want to find new homes for your good quality items?\nClothes\, household items\, sports equipment\, children’s toys\, gardening items\, plants\, plus more…\nThen why not sell it from the convenience of your front doorstep/lawn? \nIf you do not live in the village but would like a table then why not book a spot in one of our 3 hubs?\nBoxford Churchyard\, White Hart Pub car park\, or The Rectory Garden (with kind permission from Father Rob) \nTo book your place on the map or at one of our hubs please contact: boxfordsaletrail@gmail.com by Friday 3rd June 2021 \nPlease note spaces at our hub locations are limited therefore we advise you to book early (you must bring your own table and remove all items after the sale trail finishes) \nCost £12 per table space at your house / at a hub \nMaps of all sellers available for £1 from outside Box River Cafe\, Boxford from 10am on the day. \n
URL:https://boxford.me.uk/event/fobs-boxford-sale-trail/
LOCATION:Broad Street\, Boxford\, CO10 5EL
CATEGORIES:Boxford
END:VEVENT
END:VCALENDAR