BEGIN:VCALENDAR
VERSION:2.0
PRODID:-//Boxford Community Council - ECPv4.6.14.1//NONSGML v1.0//EN
CALSCALE:GREGORIAN
METHOD:PUBLISH
X-WR-CALNAME:Boxford Community Council
X-ORIGINAL-URL:https://boxford.me.uk
X-WR-CALDESC:Events for Boxford Community Council
BEGIN:VEVENT
DTSTART;TZID=Europe/London:20191224T173000
DTEND;TZID=Europe/London:20191224T183000
DTSTAMP:20260422T090342
CREATED:20191214T093308Z
LAST-MODIFIED:20191214T093308Z
UID:995-1577208600-1577212200@boxford.me.uk
SUMMARY:Hear The Angels Sing Carol Service
DESCRIPTION:
URL:https://boxford.me.uk/event/hear-the-angels-sing-carol-service-5/
CATEGORIES:Community Events,Edwardstone
END:VEVENT
END:VCALENDAR