BEGIN:VCALENDAR
VERSION:2.0
PRODID:-//Boxford Community Council - ECPv4.6.14.1//NONSGML v1.0//EN
CALSCALE:GREGORIAN
METHOD:PUBLISH
X-WR-CALNAME:Boxford Community Council
X-ORIGINAL-URL:https://boxford.me.uk
X-WR-CALDESC:Events for Boxford Community Council
BEGIN:VEVENT
DTSTART;TZID=Europe/London:20200404T193000
DTEND;TZID=Europe/London:20200404T230000
DTSTAMP:20260420T114838
CREATED:20200125T082131Z
LAST-MODIFIED:20200317T085101Z
UID:1058-1586028600-1586041200@boxford.me.uk
SUMMARY:CANCELLED - A Night At The Races
DESCRIPTION:Due to the latest Government advice this event has been cancelled. \nA race night with a difference! \nTickets £7.50 \nincludes prizes\, light buffet and a licensed bar \nThis event is being run to raise funds towards the Boxford VE75 Street Party to be held in Broad Street on 8th May \n
URL:https://boxford.me.uk/event/horse-racing-night/
LOCATION:Stone Street Road\, Boxford\, CO10 5NP
CATEGORIES:BCC Games,Boxford,Community Events
ATTACH;FMTTYPE=image/jpeg:https://boxford.me.uk/wp-content/uploads/2020/01/racenight2.jpg
ORGANIZER;CN="Mark%20Miller":MAILTO:mark.miller@talktalk.net
END:VEVENT
END:VCALENDAR