BEGIN:VCALENDAR
VERSION:2.0
PRODID:-//Boxford Community Council - ECPv4.6.14.1//NONSGML v1.0//EN
CALSCALE:GREGORIAN
METHOD:PUBLISH
X-WR-CALNAME:Boxford Community Council
X-ORIGINAL-URL:https://boxford.me.uk
X-WR-CALDESC:Events for Boxford Community Council
BEGIN:VEVENT
DTSTART;TZID=Europe/London:20191123T193000
DTEND;TZID=Europe/London:20191123T223000
DTSTAMP:20260421T112321
CREATED:20190906T160710Z
LAST-MODIFIED:20190906T160710Z
UID:899-1574537400-1574548200@boxford.me.uk
SUMMARY:Little Waldingfield Race Night
DESCRIPTION:Tickets cost just £10.00 for a two course meal with pre-dinner nibbles. \nPlease bring your own alcohol. \n
URL:https://boxford.me.uk/event/little-waldingfield-race-night/
LOCATION:CO10 0SN
CATEGORIES:Little Waldingfield
ORGANIZER;CN="Sue%20Sheppard":MAILTO:sheppard.susanm@gmail.com
END:VEVENT
END:VCALENDAR