BEGIN:VCALENDAR
VERSION:2.0
PRODID:-//Boxford Community Council - ECPv4.6.14.1//NONSGML v1.0//EN
CALSCALE:GREGORIAN
METHOD:PUBLISH
X-WR-CALNAME:Boxford Community Council
X-ORIGINAL-URL:https://boxford.me.uk
X-WR-CALDESC:Events for Boxford Community Council
BEGIN:VEVENT
DTSTART;TZID=Europe/London:20180901T100000
DTEND;TZID=Europe/London:20180901T130000
DTSTAMP:20260420T132721
CREATED:20180503T155007Z
LAST-MODIFIED:20180503T155007Z
UID:249-1535796000-1535806800@boxford.me.uk
SUMMARY:Little Waldingfield Village Sale Trail
DESCRIPTION:Sell all your unwanted items without leaving home – alternatively some tables will be available in the Parish Room.\n£5 charge for advertising\, signs\, maps and donation to Parish Room funds.\nFurther details will be available nearer the time. \n
URL:https://boxford.me.uk/event/little-waldingfield-village-sale-trail/
CATEGORIES:Little Waldingfield
END:VEVENT
END:VCALENDAR