BEGIN:VCALENDAR
VERSION:2.0
PRODID:-//Boxford Community Council - ECPv4.6.14.1//NONSGML v1.0//EN
CALSCALE:GREGORIAN
METHOD:PUBLISH
X-WR-CALNAME:Boxford Community Council
X-ORIGINAL-URL:https://boxford.me.uk
X-WR-CALDESC:Events for Boxford Community Council
BEGIN:VEVENT
DTSTART;VALUE=DATE:20190706
DTEND;VALUE=DATE:20190707
DTSTAMP:20260421T084108
CREATED:20190518T145123Z
LAST-MODIFIED:20190518T145123Z
UID:712-1562371200-1562457599@boxford.me.uk
SUMMARY:Milden Fete
DESCRIPTION:
URL:https://boxford.me.uk/event/milden-fete-2/
LOCATION:Church Road\, IP7 7AG
CATEGORIES:BCC Games,Community Events,Milden
END:VEVENT
END:VCALENDAR