BEGIN:VCALENDAR
VERSION:2.0
PRODID:-//Boxford Community Council - ECPv4.6.14.1//NONSGML v1.0//EN
CALSCALE:GREGORIAN
METHOD:PUBLISH
X-WR-CALNAME:Boxford Community Council
X-ORIGINAL-URL:https://boxford.me.uk
X-WR-CALDESC:Events for Boxford Community Council
BEGIN:VEVENT
DTSTART;TZID=Europe/London:20191116T140000
DTEND;TZID=Europe/London:20191116T160000
DTSTAMP:20260422T103549
CREATED:20190906T172952Z
LAST-MODIFIED:20190906T172952Z
UID:909-1573912800-1573920000@boxford.me.uk
SUMMARY:Milden Singers The Winter Show
DESCRIPTION:Enjoy The Milden Singers Winter Show whilst they sing a mix of Songs from Ed Sheeran\, Adele and Elton John\, to name a few\, along with comedy sketches and poems too. \nLicenced bar\, buffet and charity raffle. \nTickets are £7 and in aid of Milden Pavilion and Playingfield. \nIf you wish to join Milden Singers they meet on Monday Evenings at Milden Pavilion; please phone Pearl on 01449 741876 for more information and tickets. \n  \n
URL:https://boxford.me.uk/event/milden-singers-the-winter-show-2/
LOCATION:Church Road\, IP7 7AG
CATEGORIES:Milden
END:VEVENT
END:VCALENDAR