BEGIN:VCALENDAR
VERSION:2.0
PRODID:-//Boxford Community Council - ECPv4.6.14.1//NONSGML v1.0//EN
CALSCALE:GREGORIAN
METHOD:PUBLISH
X-WR-CALNAME:Boxford Community Council
X-ORIGINAL-URL:https://boxford.me.uk
X-WR-CALDESC:Events for Boxford Community Council
BEGIN:VEVENT
DTSTART;TZID=Europe/London:20190612T193000
DTEND;TZID=Europe/London:20190612T213000
DTSTAMP:20260420T145922
CREATED:20190518T180712Z
LAST-MODIFIED:20190518T180712Z
UID:771-1560367800-1560375000@boxford.me.uk
SUMMARY:Newton Green Parish Council
DESCRIPTION:
URL:https://boxford.me.uk/event/newton-green-parish-council/
LOCATION:Newton Green\, Sudbury\, CO10 0QS
CATEGORIES:Community Events,Newton Green
END:VEVENT
END:VCALENDAR