BEGIN:VCALENDAR
VERSION:2.0
PRODID:-//Boxford Community Council - ECPv4.6.14.1//NONSGML v1.0//EN
CALSCALE:GREGORIAN
METHOD:PUBLISH
X-WR-CALNAME:Boxford Community Council
X-ORIGINAL-URL:https://boxford.me.uk
X-WR-CALDESC:Events for Boxford Community Council
BEGIN:VEVENT
DTSTART;TZID=Europe/London:20220508T160000
DTEND;TZID=Europe/London:20220508T190000
DTSTAMP:20260420T152624
CREATED:20220224T133020Z
LAST-MODIFIED:20220224T133020Z
UID:1877-1652025600-1652036400@boxford.me.uk
SUMMARY:Piano Trio Concert
DESCRIPTION:Boxford Church Building Fundraiser \nBeethoven ‘Archduke’ \nBridge ‘Phantasie’ \nViolin Rhianwen Gold \nPiano Caroline Finlay \nCello Edward Gold \nAdults £10\, Under 18s FREE \nTickets from www.ticketsource.co.uk/boxford-concerts \nBoxford Post Office or on the door. \n
URL:https://boxford.me.uk/event/piano-trio-concert/
LOCATION:St Mary's Church\, Boxford\, co10 5DU
CATEGORIES:Boxford
ATTACH;FMTTYPE=image/png:https://boxford.me.uk/wp-content/uploads/2022/02/Trio-Poster-FINAL-page001.png
END:VEVENT
END:VCALENDAR