BEGIN:VCALENDAR
VERSION:2.0
PRODID:-//Boxford Community Council - ECPv4.6.14.1//NONSGML v1.0//EN
CALSCALE:GREGORIAN
METHOD:PUBLISH
X-WR-CALNAME:Boxford Community Council
X-ORIGINAL-URL:https://boxford.me.uk
X-WR-CALDESC:Events for Boxford Community Council
BEGIN:VEVENT
DTSTART;TZID=Europe/London:20190803T140000
DTEND;TZID=Europe/London:20190803T220000
DTSTAMP:20260421T191528
CREATED:20190620T164659Z
LAST-MODIFIED:20190620T164659Z
UID:813-1564840800-1564869600@boxford.me.uk
SUMMARY:Private Party
DESCRIPTION:
URL:https://boxford.me.uk/event/private-party-2/
CATEGORIES:Pavilion & Playing Fields,Pavilion and The Playing Fields
END:VEVENT
END:VCALENDAR