BEGIN:VCALENDAR
VERSION:2.0
PRODID:-//Boxford Community Council - ECPv4.6.14.1//NONSGML v1.0//EN
CALSCALE:GREGORIAN
METHOD:PUBLISH
X-WR-CALNAME:Boxford Community Council
X-ORIGINAL-URL:https://boxford.me.uk
X-WR-CALDESC:Events for Boxford Community Council
BEGIN:VEVENT
DTSTART;TZID=Europe/London:20200307T193000
DTEND;TZID=Europe/London:20200307T230000
DTSTAMP:20260421T095946
CREATED:20200117T105903Z
LAST-MODIFIED:20200117T174815Z
UID:1036-1583609400-1583622000@boxford.me.uk
SUMMARY:QUIZGO
DESCRIPTION:Boxford Community Council are hosting a QuizGo night. \nQuizgo\, takes the best bits of the pub quiz and make them better by combining them with elements of bingo\, meaning not only do you and your team mates need to know the answers\, you also need lady luck on your side. \nThe random nature of the answer sheets and the element of chance puts an end to the same couple of teams always winning the quiz\, and adds fun\, unpredictability and a suspense\, along with a sense of fairness as everyone now has an opportunity to win. \nThis event is being run to raise funds toward the Boxford VE75 Street Party to be held in Broad St on 8th May. \nRegister your team \nonline – boxford-quizgo.eventbrite.co.uk\nemail – mark.miller@talktalk.net\nphone â€“ 01787 211596  (please leave your name\, phone number and number of players you would like to register) \nThe evening will cost £7.50 per head (payable on the night) and will include a light buffet and licenced bar. \n
URL:https://boxford.me.uk/event/quizgo/
LOCATION:Stone Street Road\, Boxford\, CO10 5NP
CATEGORIES:Boxford,Community Events
ATTACH;FMTTYPE=image/jpeg:https://boxford.me.uk/wp-content/uploads/2020/01/Quizgo2020b.jpg
ORGANIZER;CN="Mark%20Miller":MAILTO:mark.miller@talktalk.net
END:VEVENT
END:VCALENDAR