BEGIN:VCALENDAR
VERSION:2.0
PRODID:-//Boxford Community Council - ECPv4.6.14.1//NONSGML v1.0//EN
CALSCALE:GREGORIAN
METHOD:PUBLISH
X-WR-CALNAME:Boxford Community Council
X-ORIGINAL-URL:https://boxford.me.uk
X-WR-CALDESC:Events for Boxford Community Council
BEGIN:VEVENT
DTSTART;TZID=Europe/London:20190612T173000
DTEND;TZID=Europe/London:20190612T210000
DTSTAMP:20260420T133240
CREATED:20190505T121233Z
LAST-MODIFIED:20190505T121424Z
UID:655-1560360600-1560373200@boxford.me.uk
SUMMARY:Senior Citizens' Mystery Outing
DESCRIPTION:Sign up in the Post Office \nMeet at 17.30 outside The Fleece. A meal will be provided. \n
URL:https://boxford.me.uk/event/senior-citizens-mystery-outing/
CATEGORIES:Boxford,Community Events,Edwardstone,Groton
ORGANIZER;CN="Boxford%20Community%20Council":MAILTO:boxfordcommunitycouncil@gmail.com
END:VEVENT
END:VCALENDAR