BEGIN:VCALENDAR
VERSION:2.0
PRODID:-//Boxford Community Council - ECPv4.6.14.1//NONSGML v1.0//EN
CALSCALE:GREGORIAN
METHOD:PUBLISH
X-WR-CALNAME:Boxford Community Council
X-ORIGINAL-URL:https://boxford.me.uk
X-WR-CALDESC:Events for Boxford Community Council
BEGIN:VEVENT
DTSTART;TZID=Europe/London:20200508T140000
DTEND;TZID=Europe/London:20200508T230000
DTSTAMP:20260420T083505
CREATED:20200216T144530Z
LAST-MODIFIED:20200320T121020Z
UID:1079-1588946400-1588978800@boxford.me.uk
SUMMARY:CANCELLED - VE75 Street Party
DESCRIPTION:Boxford\, Edwardstone\, Groton \n3pm Nationwide Toast\nTraditional Children’s Tea Party\n7pm Lighting the Beacon & Bells Ring for Peace\n7:30pm The Beavers \nThroughout the afternoon –\nFancy Dress\nChildren’s Amusements\nMadrigalia\nSweeting Swing Band\nBoxford Drama Group\nSarah Mai and Her Little Big Band \n
URL:https://boxford.me.uk/event/ve75-street-party/
LOCATION:Broad Street\, Boxford\, CO10 5EL
CATEGORIES:Boxford,Community Events
ATTACH;FMTTYPE=image/jpeg:https://boxford.me.uk/wp-content/uploads/2020/02/ve75-2.jpg
ORGANIZER;CN="Boxford%20Community%20Council":MAILTO:boxfordcommunitycouncil@gmail.com
END:VEVENT
END:VCALENDAR