BEGIN:VCALENDAR
VERSION:2.0
PRODID:-//Boxford Community Council - ECPv4.6.14.1//NONSGML v1.0//EN
CALSCALE:GREGORIAN
METHOD:PUBLISH
X-WR-CALNAME:Boxford Community Council
X-ORIGINAL-URL:https://boxford.me.uk
X-WR-CALDESC:Events for Boxford Community Council
BEGIN:VEVENT
DTSTART;TZID=Europe/London:20220409T193000
DTEND;TZID=Europe/London:20220409T230000
DTSTAMP:20260422T121705
CREATED:20220224T114452Z
LAST-MODIFIED:20220224T115428Z
UID:1853-1649532600-1649545200@boxford.me.uk
SUMMARY:Little Waldingfield Quiz Time
DESCRIPTION:We are back! \nCome and enjoy an evening of quiz fun in Little Waldingfield Parish Room. \nApril 9th 7.30pm \nTeams of four at £10 per person including a two course supper and nibbles \nBYOB \n
URL:https://boxford.me.uk/event/little-waldingfield-quiz-time/
LOCATION:CO10 0SN
CATEGORIES:Little Waldingfield
ORGANIZER;CN="Sue%20Bowen":MAILTO:sd.bowen@btopenworld.com
END:VEVENT
END:VCALENDAR